Workbook

Sheet français
B4: Certificat PEB et Eco-design
A8: Les spécifiations techniques de ce certificat peuvent être utilisées pour indiquer, via le logiciel PEB, le type de générateur de chaleur utilisé pour le chauffage et/ou l'eau chaude sanitaire. Si nécessaire, les résultats exacts du test peuvent être demandés (test effectué selon la norme EN 14825).
A11: Ce certificat est valable à partir du 01/01/2026.
A13: GÉNÉRATEUR
B14: Nom : | K14: Sélectionnez votre pompe à chaleur ici | R14: =IF(OR(K14="Sélectionnez votre pompe à chaleur ici",K14=""),""," <====== Sélectionnez votre pompe à chaleur ici")
B15: Marque du produit : | K15: =IFERROR(VLOOKUP($K$14,Blad2!$A$7:$AF$120,2,),"")
B16: Product-ID : | K16: =IFERROR(VLOOKUP($K$14,Blad2!$A$7:$AF$120,1,),"")
B17: Type de générateur : | K17: =IFERROR(VLOOKUP($K$14,Blad2!$A$7:$AF$120,3,),"")
B18: Sous-type de générateur : | K18: =IFERROR(VLOOKUP($K$14,Blad2!$A$7:$AF$120,4,),"")
B19: Source de chaleur de l'évaporateur : | K19: =IFERROR(VLOOKUP($K$14,Blad2!$A$7:$AF$120,5,),"")
B20: Fluide caloporteur du condenseur : | K20: =IFERROR(VLOOKUP($K$14,Blad2!$A$7:$AF$120,6,),"")
B21: Mise sur le marché antérieure au 26/9/2015 : | K21: =IFERROR(VLOOKUP($K$14,Blad2!$A$7:$AF$120,7,),"")
B22: Générateur utilisant des combustibles produits principalement par biomasse :
K23: =IFERROR(VLOOKUP($K$14,Blad2!$A$7:$AF$120,8,),"")
A24: CHAUFFAGE
B25: Puissance nominale > 400 kW : | K25: =IFERROR(VLOOKUP($K$14,Blad2!$A$7:$AF$120,9,),"")
B26: Puissance (Prated) : | K26: =IFERROR(VLOOKUP($K$14,Blad2!$A$7:$AF$120,10,),"") | L26: =IF(K26="","","kW")
B27: Valeur par défaut pour le rendement : | K27: =IFERROR(VLOOKUP($K$14,Blad2!$A$7:$AF$120,11,),"")
B28: Puissance OFF (POFF) : | K28: =IFERROR(VLOOKUP($K$14,Blad2!$A$7:$AF$120,12,),"") | L28: =IF(K28="","","kW")
B29: Puissance TO (PTO) : | K29: =IFERROR(VLOOKUP($K$14,Blad2!$A$7:$AF$120,13,),"") | L29: =IF(K29="","","kW")
B30: Puissance SB (PSB) : | K30: =IFERROR(VLOOKUP($K$14,Blad2!$A$7:$AF$120,14,),"") | L30: =IF(K30="","","kW")
B31: Puissance CCH (PCK) : | K31: =IFERROR(VLOOKUP($K$14,Blad2!$A$7:$AF$120,15,),"") | L31: =IF(K31="","","kW")
B32: La PAC est utilisée comme refroidissement actif : | K32: =IFERROR(VLOOKUP($K$14,Blad2!$A$7:$AF$120,16,),"")
B33: Température à laquelle est déterminé le SCOPon ou SGUEh : | M33: =IF(K33="","","°C")
K34: =IFERROR(VLOOKUP($K$14,Blad2!$A$7:$AF$120,17,),"") | O34: =IF(K34="","","° C")
B35: Encodage du SCOPon : | K35: =IFERROR(VLOOKUP($K$14,Blad2!$A$7:$AF$120,18,),"")
B36: րS 55°C : | K36: =IFERROR(VLOOKUP($K$14,Blad2!$A$7:$AF$120,19,),"") | O36: =IF(K36="","","%")
B37: Source de chaleur pour la détermination du SCOPon ou SGUEh :
K38: =IFERROR(VLOOKUP($K$14,Blad2!$A$7:$AF$120,20,),"")
B39: Conditions test connue : | K39: =IFERROR(VLOOKUP($K$14,Blad2!$A$7:$AF$120,21,),"")
B40: Augmentation de la T° à travers le condenseur : | K40: =IFERROR(VLOOKUP($K$14,Blad2!$A$7:$AF$120,22,),"") | O40: =IF(K40="","","° C")
B41: Puissance électrique de la pompe connue : | K41: =IFERROR(VLOOKUP($K$14,Blad2!$A$7:$AF$120,23,),"")
B42: Puissance électrique de la pompe vers l'évoraporateur :
K43: =IFERROR(VLOOKUP($K$14,Blad2!$A$7:$AF$120,24,),"")
A44: EAU CHAUDE SANITAIRE
B45: Configuration du stockage ou de l'échangeur : | K45: =IFERROR(VLOOKUP($K$14,Blad2!$A$7:$AF$120,25,),"")
B48: Plage de puissance : | K48: =IFERROR(VLOOKUP($K$14,Blad2!$A$7:$AF$120,26,),"") | L48: =IF(K48="","","kW")
B49: Puissance (Prated) : | K49: =IFERROR(VLOOKUP($K$14,Blad2!$A$7:$AF$120,27,),"") | L49: =IF(K49="","","kW")
B50: Avec stockage de chaleur (pas instantané) : | K50: =IFERROR(VLOOKUP($K$14,Blad2!$A$7:$AF$120,28,),"")
B51: Profil de soutirage déclaré connu : | K51: =IFERROR(VLOOKUP($K$14,Blad2!$A$7:$AF$120,29,),"")
...

Sheet Blad2
B1: GÉNÉRATEUR | C1: GÉNÉRATEUR | D1: GÉNÉRATEUR | E1: GÉNÉRATEUR | F1: GÉNÉRATEUR | G1: GÉNÉRATEUR | H1: GÉNÉRATEUR | I1: CHAUFFAGE | J1: CHAUFFAGE | K1: CHAUFFAGE | L1: CHAUFFAGE | M1: CHAUFFAGE | N1: CHAUFFAGE | O1: CHAUFFAGE | P1: CHAUFFAGE | Q1: CHAUFFAGE | R1: CHAUFFAGE | S1: CHAUFFAGE | T1: CHAUFFAGE | U1: CHAUFFAGE | V1: CHAUFFAGE | W1: CHAUFFAGE | X1: CHAUFFAGE | Y1: ECS | Z1: ECS | AA1: ECS | AB1: ECS | AC1: ECS | AD1: ECS | AE1: ECS | AF1: ECS | AG1: ECS | AH1: ECS | AJ1: CIRCULATEURS | AK1: CIRCULATEURS | AL1: CIRCULATEURS | AM1: CIRCULATEURS | AN1: CIRCULATEURS
A2: 1 | B2: 2 | C2: 3 | D2: 4 | E2: 5 | F2: =E2+1 -> 6 | G2: =F2+1 -> 7 | H2: =G2+1 -> 8 | I2: =H2+1 -> 9 | J2: =I2+1 -> 10 | K2: =J2+1 -> 11 | L2: =K2+1 -> 12 | M2: =L2+1 -> 13 | ... AB2: =AA2+1 -> 28 | AC2: 29 | AD2: =AC2+1 -> 30 | AE2: =AD2+1 -> 31 | AF2: =AE2+1 -> 32 | AG2: =AF2+1 -> 33 | AH2: =AG2+1 -> 34 | AI2: =AH2+1 -> 35 | AJ2: =AI2+1 -> 36 | AK2: =AJ2+1 -> 37 | ... AS2: =AR2+1 -> 45
A5: Product-ID | B5: Marque du produit | C5: Type de générateur | D5: Sous-type de générateur | E5: Source chaude de l'évaporateur | F5: Fluide caloporteur du condenseur | G5: Mise sur le marché antérieure au 26/9/2015 | H5: Générateur utilisant des combustibles produits principalement par biomasse | I5: Puissance nominale > 400 kW | J5: Puissance (nominale ou thermique) | K5: Valeur par défaut pour le rendement | L5: Puissance OFF | M5: Puissance TO | N5: Puissance SB | O5: Puissance CCH | P5: La PAC est utilisée comme refroidissement actif | Q5: Température à laquelle est déterminé le SCOPon ou SGUEh | R5: Encodage du SCOPon | S5: Ns 55°C | T5: Source de chaleur pour la détermination du Scopon | U5: Conditions test connue | V5: Augmentation de la T° à travers le condenseur | W5: Puissance électrique de la pompe connue | X5: Puissance élec. De la pompe vers l'évap. | Y5: Configuration du stockage ou de l'échangeur | Z5: Plage de puissance | AA5: Puissance (nominale ou thermique) | AB5: Avec stockage de chaleur (pas instantané) | AC5: Profil de soutirage déclaré connu | AD5: Profil | AE5: Effacité énergétique connue | AF5: Efficacité énergétique ƞwh | AG5: PAC équipée d'une résistance électrique | AH5: Cette efficacité est-elle déterminée en intégrant la résistance électrique | AJ5: Introduction directe de la puissance installée | AK5: Puissance installée | AL5: Type de circulateur | AM5: EEI connu | AN5: EEI
A6: Sélectionnez votre pompe à chaleur ici
A7: Compress 6000 4 AWE | B7: Bosch | C7: Pompe à chaleur | D7: Électrique | E7: Air neuf (extérieur) uniquement | F7: Eau | G7: Non | H7: Non | I7: Non | J7: 4 | K7: Non | L7: 0.022 | M7: 0 | N7: 0.022 | O7: 0.004 | P7: À remplir par le certificateur | Q7: 55 | R7: Calcul simplifié SCOPon | S7: 133 | T7: Non applicable | U7: Oui | V7: 8 | W7: Non applicable | X7: Non applicable | Y7: À remplir par le certificateur, le cas échéant | Z7: ≤ 70 | AA7: 4 | AB7: À remplir par le certificateur, le cas échéant | AC7: Non | AD7: Inconnu | AE7: Non applicable | AF7: Non applicable | AG7: Oui | AH7: Oui | AJ7: Oui | AK7: 70 W | AL7: À rotor noyé avec régulation (excepté régulation marche/arrêt) | AM7: Oui | AN7: 0.23
A8: Compress 6000 6 AWE | B8: Bosch | C8: Pompe à chaleur | D8: Électrique | E8: Air neuf (extérieur) uniquement | F8: Eau | G8: Non | H8: Non | I8: Non | J8: 5 | K8: Non | L8: 0.022 | M8: 0 | N8: 0.022 | O8: 0.004 | P8: À remplir par le certificateur | Q8: 55 | R8: Calcul simplifié SCOPon | S8: 146 | T8: Non applicable | U8: Oui | V8: 8 | W8: Non applicable | X8: Non applicable | Y8: À remplir par le certificateur, le cas échéant | Z8: ≤ 70 | AA8: 5 | AB8: À remplir par le certificateur, le cas échéant | AC8: Non | AD8: Inconnu | AE8: Non applicable | AF8: Non applicable | AG8: Oui | AH8: Oui | AJ8: Oui | AK8: 70 W | AL8: À rotor noyé avec régulation (excepté régulation marche/arrêt) | AM8: Oui | AN8: 0.23
A9: Compress 6000 6 AWE + WH 290 LP1 B | B9: Bosch | C9: Pompe à chaleur | D9: Électrique | E9: Air neuf (extérieur) uniquement | F9: Eau | G9: Non | H9: Non | I9: Non | J9: 5 | K9: Non | L9: 0.022 | M9: 0 | N9: 0.022 | O9: 0.004 | P9: À remplir par le certificateur | Q9: 55 | R9: Calcul simplifié SCOPon | S9: 146 | T9: Non applicable | U9: Oui | V9: 8 | W9: Non applicable | X9: Non applicable | Y9: Générateur de chaleur avec ballon intégré | Z9: ≤ 70 | AA9: 5 | AB9: Oui | AC9: Oui | AD9: XL | AE9: Oui | AF9: 115,6 % | AG9: Oui | AH9: Oui | AJ9: Oui | AK9: 70 W | AL9: À rotor noyé avec régulation (excepté régulation marche/arrêt) | AM9: Oui | AN9: 0.23
A10: Compress 6000 8 AWE | B10: Bosch | C10: Pompe à chaleur | D10: Électrique | E10: Air neuf (extérieur) uniquement | F10: Eau | G10: Non | H10: Non | I10: Non | J10: 7 | K10: Non | L10: 0.017 | M10: 0.008 | N10: 0.017 | O10: 0.007 | P10: À remplir par le certificateur | Q10: 55 | R10: Calcul simplifié SCOPon | S10: 147 | T10: Non applicable | U10: Oui | V10: 8 | W10: Non applicable | X10: Non applicable | Y10: À remplir par le certificateur, le cas échéant | Z10: ≤ 70 | AA10: 7 | AB10: À remplir par le certificateur, le cas échéant | AC10: Non | AD10: Inconnu | AE10: Non applicable | AF10: Non applicable | AG10: Oui | AH10: Oui | AJ10: Oui | AK10: 70 W | AL10: À rotor noyé avec régulation (excepté régulation marche/arrêt) | AM10: Oui | AN10: 0.23
A11: Compress 6000 8 AWE + HR300 | B11: Bosch | C11: Pompe à chaleur | D11: Électrique | E11: Air neuf (extérieur) uniquement | F11: Eau | G11: Non | H11: Non | I11: Non | J11: 7 | K11: Non | L11: 0.017 | M11: 0.008 | N11: 0.017 | O11: 0.007 | P11: À remplir par le certificateur | Q11: 55 | R11: Calcul simplifié SCOPon | S11: 147 | T11: Non applicable | U11: Oui | V11: 8 | W11: Non applicable | X11: Non applicable | Y11: Générateur de chaleur avec ballon intégré | Z11: ≤ 70 | AA11: 7 | AB11: Oui | AC11: Oui | AD11: XL | AE11: Oui | AF11: 121 % | AG11: Oui | AH11: Oui | AJ11: Oui | AK11: 70 W | AL11: À rotor noyé avec régulation (excepté régulation marche/arrêt) | AM11: Oui | AN11: 0.23
A12: Compress 6000 11s AWE | B12: Bosch | C12: Pompe à chaleur | D12: Électrique | E12: Air neuf (extérieur) uniquement | F12: Eau | G12: Non | H12: Non | I12: Non | J12: 9 | K12: Non | L12: 0.023 | M12: 0 | N12: 0.023 | O12: 0.012 | P12: À remplir par le certificateur | Q12: 55 | R12: Calcul simplifié SCOPon | S12: 141 | T12: Non applicable | U12: Oui | V12: 8 | W12: Non applicable | X12: Non applicable | Y12: À remplir par le certificateur, le cas échéant | Z12: ≤ 70 | AA12: 9 | AB12: À remplir par le certificateur, le cas échéant | AC12: Non | AD12: Inconnu | AE12: Non applicable | AF12: Non applicable | AG12: Oui | AH12: Oui | AJ12: Oui | AK12: 90 W | AL12: À rotor noyé avec régulation (excepté régulation marche/arrêt) | AM12: Oui | AN12: 0.23
A13: Compress 6000 11t AWE | B13: Bosch | C13: Pompe à chaleur | D13: Électrique | E13: Air neuf (extérieur) uniquement | F13: Eau | G13: Non | H13: Non | I13: Non | J13: 9 | K13: Non | L13: 0.02 | M13: 0.02 | N13: 0.02 | O13: 0 | P13: À remplir par le certificateur | Q13: 55 | R13: Calcul simplifié SCOPon | S13: 142 | T13: Non applicable | U13: Oui | V13: 8 | W13: Non applicable | X13: Non applicable | Y13: À remplir par le certificateur, le cas échéant | Z13: ≤ 70 | AA13: 9 | AB13: À remplir par le certificateur, le cas échéant | AC13: Non | AD13: Inconnu | AE13: Non applicable | AF13: Non applicable | AG13: Oui | AH13: Oui | AJ13: Oui | AK13: 90 W | AL13: À rotor noyé avec régulation (excepté régulation marche/arrêt) | AM13: Oui | AN13: 0.23
A14: Compress 6000 14t AWE | B14: Bosch | C14: Pompe à chaleur | D14: Électrique | E14: Air neuf (extérieur) uniquement | F14: Eau | G14: Non | H14: Non | I14: Non | J14: 10 | K14: Non | L14: 0.024 | M14: 0.017 | N14: 0.024 | O14: 0.011 | P14: À remplir par le certificateur | Q14: 55 | R14: Calcul simplifié SCOPon | S14: 144 | T14: Non applicable | U14: Oui | V14: 8 | W14: Non applicable | X14: Non applicable | Y14: À remplir par le certificateur, le cas échéant | Z14: ≤ 70 | AA14: 10 | AB14: À remplir par le certificateur, le cas échéant | AC14: Non | AD14: Inconnu | AE14: Non applicable | AF14: Non applicable | AG14: Oui | AH14: Oui | AJ14: Oui | AK14: 90 W | AL14: À rotor noyé avec régulation (excepté régulation marche/arrêt) | AM14: Oui | AN14: 0.23
A15: Compress 6000 4 AWB | B15: Bosch | C15: Pompe à chaleur | D15: Électrique | E15: Air neuf (extérieur) uniquement | F15: Eau | G15: Non | H15: Non | I15: Non | J15: 4 | K15: Non | L15: 0.022 | M15: 0 | N15: 0.022 | O15: 0.004 | P15: À remplir par le certificateur | Q15: 55 | R15: Calcul simplifié SCOPon | S15: 133 | T15: Non applicable | U15: Oui | V15: 8 | W15: Non applicable | X15: Non applicable | Y15: À remplir par le certificateur, le cas échéant | Z15: ≤ 70 | AA15: 4 | AB15: À remplir par le certificateur, le cas échéant | AC15: Non | AD15: Inconnu | AE15: Non applicable | AF15: Non applicable | AG15: Non | AH15: Non applicable | AJ15: Oui | AK15: 70 W | AL15: À rotor noyé avec régulation (excepté régulation marche/arrêt) | AM15: Oui | AN15: 0.23
A16: Compress 6000 6 AWB | B16: Bosch | C16: Pompe à chaleur | D16: Électrique | E16: Air neuf (extérieur) uniquement | F16: Eau | G16: Non | H16: Non | I16: Non | J16: 5 | K16: Non | L16: 0.022 | M16: 0 | N16: 0.022 | O16: 0.004 | P16: À remplir par le certificateur | Q16: 55 | R16: Calcul simplifié SCOPon | S16: 146 | T16: Non applicable | U16: Oui | V16: 8 | W16: Non applicable | X16: Non applicable | Y16: À remplir par le certificateur, le cas échéant | Z16: ≤ 70 | AA16: 5 | AB16: À remplir par le certificateur, le cas échéant | AC16: Non | AD16: Inconnu | AE16: Non applicable | AF16: Non applicable | AG16: Non | AH16: Non applicable | AJ16: Oui | AK16: 70 W | AL16: À rotor noyé avec régulation (excepté régulation marche/arrêt) | AM16: Oui | AN16: 0.23
A17: Compress 6000 8 AWB | B17: Bosch | C17: Pompe à chaleur | D17: Électrique | E17: Air neuf (extérieur) uniquement | F17: Eau | G17: Non | H17: Non | I17: Non | J17: 7 | K17: Non | L17: 0.017 | M17: 0.008 | N17: 0.017 | O17: 0.007 | P17: À remplir par le certificateur | Q17: 55 | R17: Calcul simplifié SCOPon | S17: 147 | T17: Non applicable | U17: Oui | V17: 8 | W17: Non applicable | X17: Non applicable | Y17: À remplir par le certificateur, le cas échéant | Z17: ≤ 70 | AA17: 7 | AB17: À remplir par le certificateur, le cas échéant | AC17: Non | AD17: Inconnu | AE17: Non applicable | AF17: Non applicable | AG17: Non | AH17: Non applicable | AJ17: Oui | AK17: 70 W | AL17: À rotor noyé avec régulation (excepté régulation marche/arrêt) | AM17: Oui | AN17: 0.23
A18: Compress 6000 11s AWB | B18: Bosch | C18: Pompe à chaleur | D18: Électrique | E18: Air neuf (extérieur) uniquement | F18: Eau | G18: Non | H18: Non | I18: Non | J18: 9 | K18: Non | L18: 0.023 | M18: 0 | N18: 0.023 | O18: 0.012 | P18: À remplir par le certificateur | Q18: 55 | R18: Calcul simplifié SCOPon | S18: 141 | T18: Non applicable | U18: Oui | V18: 8 | W18: Non applicable | X18: Non applicable | Y18: À remplir par le certificateur, le cas échéant | Z18: ≤ 70 | AA18: 9 | AB18: À remplir par le certificateur, le cas échéant | AC18: Non | AD18: Inconnu | AE18: Non applicable | AF18: Non applicable | AG18: Non | AH18: Non applicable | AJ18: Oui | AK18: 90 W | AL18: À rotor noyé avec régulation (excepté régulation marche/arrêt) | AM18: Oui | AN18: 0.23
... A96: Compress 2000 AWF 16 R-T | B96: Bosch | C96: Pompe à chaleur | D96: Électrique | E96: Air neuf (extérieur) uniquement | F96: Eau | G96: Non | H96: Non | I96: Non | J96: 13 | K96: Non | L96: 0.014 | M96: 0.03 | N96: 0.014 | O96: 0 | P96: À remplir par le certificateur | Q96: 55 | R96: Calcul simplifié SCOPon | S96: 137 | T96: Non applicable | U96: Oui | V96: 8 | W96: Non applicable | X96: Non applicable | Y96: À remplir par le certificateur, le cas échéant | Z96: ≤ 70 | AA96: 13 | AB96: À remplir par le certificateur, le cas échéant | AC96: Non applicable | AD96: Non applicable | AE96: Non applicable | AF96: Non applicable | AG96: Non | AH96: Oui | AJ96: Oui | AK96: 87 W | AL96: À rotor noyé avec régulation (excepté régulation marche/arrêt) | AM96: Oui | AN96: 0.21
A97: Compress 3800iAW 4 OM-S | B97: Bosch | C97: Pompe à chaleur | D97: Électrique | E97: Air neuf (extérieur) uniquement | F97: Eau | G97: Non | H97: Non | I97: Non | J97: 4 | K97: Non | L97: 0.015 | M97: 0.016 | N97: 0.015 | O97: 0.001 | P97: À remplir par le certificateur | Q97: 55 | R97: Calcul simplifié SCOPon | S97: 143 | T97: Non applicable | U97: Non applicable | V97: Non applicable | W97: Non applicable | X97: Non applicable | Y97: Générateur de chaleur avec ballon intégré | Z97: ≤ 70 | AA97: 4 | AB97: Oui | AC97: Oui | AD97: L | AE97: Oui | AF97: 152 % | AG97: Non | AH97: Oui | AJ97: Non applicable | AK97: Non applicable | AL97: Non applicable | AM97: Non applicable | AN97: Non applicable
A98: Compress 3800iAW 6 OM-S | B98: Bosch | C98: Pompe à chaleur | D98: Électrique | E98: Air neuf (extérieur) uniquement | F98: Eau | G98: Non | H98: Non | I98: Non | J98: 6 | K98: Non | L98: 0.015 | M98: 0.016 | N98: 0.015 | O98: 0.001 | P98: À remplir par le certificateur | Q98: 55 | R98: Calcul simplifié SCOPon | S98: 145 | T98: Non applicable | U98: Non applicable | V98: Non applicable | W98: Non applicable | X98: Non applicable | Y98: Générateur de chaleur avec ballon intégré | Z98: ≤ 70 | AA98: 6 | AB98: Oui | AC98: Oui | AD98: L | AE98: Oui | AF98: 152 % | AG98: Non | AH98: Oui | AJ98: Non applicable | AK98: Non applicable | AL98: Non applicable | AM98: Non applicable | AN98: Non applicable
A99: Compress 3800iAW 7 OM-S | B99: Bosch | C99: Pompe à chaleur | D99: Électrique | E99: Air neuf (extérieur) uniquement | F99: Eau | G99: Non | H99: Non | I99: Non | J99: 8 | K99: Non | L99: 0.015 | M99: 0.016 | N99: 0.015 | O99: 0.001 | P99: À remplir par le certificateur | Q99: 55 | R99: Calcul simplifié SCOPon | S99: 146 | T99: Non applicable | U99: Non applicable | V99: Non applicable | W99: Non applicable | X99: Non applicable | Y99: Générateur de chaleur avec ballon intégré | Z99: ≤ 70 | AA99: 8 | AB99: Oui | AC99: Oui | AD99: L | AE99: Oui | AF99: 152 % | AG99: Non | AH99: Oui | AJ99: Non applicable | AK99: Non applicable | AL99: Non applicable | AM99: Non applicable | AN99: Non applicable
A100: Compress 3800iAW 10 OM-S | B100: Bosch | C100: Pompe à chaleur | D100: Électrique | E100: Air neuf (extérieur) uniquement | F100: Eau | G100: Non | H100: Non | I100: Non | J100: 10 | K100: Non | L100: 0.017 | M100: 0.035 | N100: 0.017 | O100: 0 | P100: À remplir par le certificateur | Q100: 55 | R100: Calcul simplifié SCOPon | S100: 155 | T100: Non applicable | U100: Non applicable | V100: Non applicable | W100: Non applicable | X100: Non applicable | Y100: Générateur de chaleur avec ballon intégré | Z100: ≤ 70 | AA100: 10 | AB100: Oui | AC100: Oui | AD100: L | AE100: Oui | AF100: 149 % | AG100: Non | AH100: Oui | AJ100: Non applicable | AK100: Non applicable | AL100: Non applicable | AM100: Non applicable | AN100: Non applicable
A101: Compress 3800iAW 13 OM-S | B101: Bosch | C101: Pompe à chaleur | D101: Électrique | E101: Air neuf (extérieur) uniquement | F101: Eau | G101: Non | H101: Non | I101: Non | J101: 13 | K101: Non | L101: 0.017 | M101: 0.015 | N101: 0.017 | O101: 0 | P101: À remplir par le certificateur | Q101: 55 | R101: Calcul simplifié SCOPon | S101: 157 | T101: Non applicable | U101: Non applicable | V101: Non applicable | W101: Non applicable | X101: Non applicable | Y101: Générateur de chaleur avec ballon intégré | Z101: ≤ 70 | AA101: 13 | AB101: Oui | AC101: Oui | AD101: L | AE101: Oui | AF101: 149 % | AG101: Non | AH101: Oui | AJ101: Non applicable | AK101: Non applicable | AL101: Non applicable | AM101: Non applicable | AN101: Non applicable
A102: Compress 3800iAW 10 OM-T | B102: Bosch | C102: Pompe à chaleur | D102: Électrique | E102: Air neuf (extérieur) uniquement | F102: Eau | G102: Non | H102: Non | I102: Non | J102: 10 | K102: Non | L102: 0.017 | M102: 0.007 | N102: 0.017 | O102: 0 | P102: À remplir par le certificateur | Q102: 55 | R102: Calcul simplifié SCOPon | S102: 156 | T102: Non applicable | U102: Non applicable | V102: Non applicable | W102: Non applicable | X102: Non applicable | Y102: Générateur de chaleur avec ballon intégré | Z102: ≤ 70 | AA102: 10 | AB102: Oui | AC102: Oui | AD102: L | AE102: Oui | AF102: 152 % | AG102: Non | AH102: Oui | AJ102: Non applicable | AK102: Non applicable | AL102: Non applicable | AM102: Non applicable | AN102: Non applicable
A103: Compress 3800iAW 13 OM-T | B103: Bosch | C103: Pompe à chaleur | D103: Électrique | E103: Air neuf (extérieur) uniquement | F103: Eau | G103: Non | H103: Non | I103: Non | J103: 13 | K103: Non | L103: 0.017 | M103: 0.007 | N103: 0.017 | O103: 0 | P103: À remplir par le certificateur | Q103: 55 | R103: Calcul simplifié SCOPon | S103: 154 | T103: Non applicable | U103: Non applicable | V103: Non applicable | W103: Non applicable | X103: Non applicable | Y103: Générateur de chaleur avec ballon intégré | Z103: ≤ 70 | AA103: 13 | AB103: Oui | AC103: Oui | AD103: L | AE103: Oui | AF103: 152 % | AG103: Non | AH103: Oui | AJ103: Non applicable | AK103: Non applicable | AL103: Non applicable | AM103: Non applicable | AN103: Non applicable
A104: Compress 3800iAW 4 OMH-S | B104: Bosch | C104: Pompe à chaleur | D104: Électrique | E104: Air neuf (extérieur) uniquement | F104: Eau | G104: Non | H104: Non | I104: Non | J104: 4 | K104: Non | L104: 0.015 | M104: 0.016 | N104: 0.015 | O104: 0.001 | P104: À remplir par le certificateur | Q104: 55 | R104: Calcul simplifié SCOPon | S104: 143 | T104: Non applicable | U104: Non applicable | V104: Non applicable | W104: Non applicable | X104: Non applicable | Y104: Générateur de chaleur avec ballon intégré | Z104: ≤ 70 | AA104: 4 | AB104: Oui | AC104: Oui | AD104: L | AE104: Oui | AF104: 152 % | AG104: Non | AH104: Oui | AJ104: Non applicable | AK104: Non applicable | AL104: Non applicable | AM104: Non applicable | AN104: Non applicable
A105: Compress 3800iAW 6 OMH-S | B105: Bosch | C105: Pompe à chaleur | D105: Électrique | E105: Air neuf (extérieur) uniquement | F105: Eau | G105: Non | H105: Non | I105: Non | J105: 6 | K105: Non | L105: 0.015 | M105: 0.016 | N105: 0.015 | O105: 0.001 | P105: À remplir par le certificateur | Q105: 55 | R105: Calcul simplifié SCOPon | S105: 145 | T105: Non applicable | U105: Non applicable | V105: Non applicable | W105: Non applicable | X105: Non applicable | Y105: Générateur de chaleur avec ballon intégré | Z105: ≤ 70 | AA105: 6 | AB105: Oui | AC105: Oui | AD105: L | AE105: Oui | AF105: 152 % | AG105: Non | AH105: Oui | AJ105: Non applicable | AK105: Non applicable | AL105: Non applicable | AM105: Non applicable | AN105: Non applicable
A106: Compress 3800iAW 7 OMH-S | B106: Bosch | C106: Pompe à chaleur | D106: Électrique | E106: Air neuf (extérieur) uniquement | F106: Eau | G106: Non | H106: Non | I106: Non | J106: 8 | K106: Non | L106: 0.015 | M106: 0.016 | N106: 0.015 | O106: 0.001 | P106: À remplir par le certificateur | Q106: 55 | R106: Calcul simplifié SCOPon | S106: 146 | T106: Non applicable | U106: Non applicable | V106: Non applicable | W106: Non applicable | X106: Non applicable | Y106: Générateur de chaleur avec ballon intégré | Z106: ≤ 70 | AA106: 8 | AB106: Oui | AC106: Oui | AD106: L | AE106: Oui | AF106: 152 % | AG106: Non | AH106: Oui | AJ106: Non applicable | AK106: Non applicable | AL106: Non applicable | AM106: Non applicable | AN106: Non applicable
A107: Compress 3800iAW 10 OMH-S | B107: Bosch | C107: Pompe à chaleur | D107: Électrique | E107: Air neuf (extérieur) uniquement | F107: Eau | G107: Non | H107: Non | I107: Non | J107: 10 | K107: Non | L107: 0.017 | M107: 0.035 | N107: 0.017 | O107: 0 | P107: À remplir par le certificateur | Q107: 55 | R107: Calcul simplifié SCOPon | S107: 155 | T107: Non applicable | U107: Non applicable | V107: Non applicable | W107: Non applicable | X107: Non applicable | Y107: Générateur de chaleur avec ballon intégré | Z107: ≤ 70 | AA107: 10 | AB107: Oui | AC107: Oui | AD107: L | AE107: Oui | AF107: 149 % | AG107: Non | AH107: Oui | AJ107: Non applicable | AK107: Non applicable | AL107: Non applicable | AM107: Non applicable | AN107: Non applicable
A108: Compress 3800iAW 13 OMH-S | B108: Bosch | C108: Pompe à chaleur | D108: Électrique | E108: Air neuf (extérieur) uniquement | F108: Eau | G108: Non | H108: Non | I108: Non | J108: 13 | K108: Non | L108: 0.017 | M108: 0.015 | N108: 0.017 | O108: 0 | P108: À remplir par le certificateur | Q108: 55 | R108: Calcul simplifié SCOPon | S108: 157 | T108: Non applicable | U108: Non applicable | V108: Non applicable | W108: Non applicable | X108: Non applicable | Y108: Générateur de chaleur avec ballon intégré | Z108: ≤ 70 | AA108: 13 | AB108: Oui | AC108: Oui | AD108: L | AE108: Oui | AF108: 149 % | AG108: Non | AH108: Oui | AJ108: Non applicable | AK108: Non applicable | AL108: Non applicable | AM108: Non applicable | AN108: Non applicable
... A117: Compress 3800iAW 13 OE-T | B117: Bosch | C117: Pompe à chaleur | D117: Électrique | E117: Air neuf (extérieur) uniquement | F117: Eau | G117: Non | H117: Non | I117: Non | J117: 13 | K117: Non | L117: 0.017 | M117: 0.007 | N117: 0.017 | O117: 0 | P117: À remplir par le certificateur | Q117: 55 | R117: Calcul simplifié SCOPon | S117: 154 | T117: Non applicable | U117: Non applicable | V117: Non applicable | W117: Non applicable | X117: Non applicable | Y117: À remplir par le certificateur, le cas échéant | Z117: ≤ 70 | AA117: 13 | AB117: À remplir par le certificateur, le cas échéant | AC117: Non applicable | AD117: Non applicable | AE117: Non applicable | AF117: Non applicable | AG117: Oui | AH117: Oui | AJ117: Non applicable | AK117: Non applicable | AL117: Non applicable | AM117: Non applicable | AN117: Non applicable

Sheet Nederlands
B3: EPB certificaat en Eco-design
A6: De technische specificaties in dit stavingscertificaat kunnen worden gebruikt voor de ingave van opwekkingstoestellen voor verwarming en sanitair warm water in de EPB-software. Indien nodig, kunnen de officiële testresultaten, die dit certificaat staven, bekomen worden (test uitgevoerd volgens de norm EN 14825).
A9: Dit stavingscertificaat is geldig vanaf 01/01/2026.
A11: OPWEKKER
B12: Naam: | K12: Selecteer hier uw warmtepomp | R12: =IF(OR(K12="Selecteer hier uw warmtepomp",K12=""),""," <====== Selecteer hier uw warmtepomp")
B13: Merk: | K13: =IFERROR(VLOOKUP($K$12,Blad4!$A$5:$X$120,2,),"")
B14: Product-ID: | K14: =IFERROR(VLOOKUP($K$12,Blad4!$A$5:$X$120,1,),"")
B15: Soort toestel: | K15: =IFERROR(VLOOKUP($K$12,Blad4!$A$5:$X$120,3,),"")
B16: Subtype toestel: | K16: =IFERROR(VLOOKUP($K$12,Blad4!$A$5:$X$120,4,),"")
B17: Warmtebron van de verdamper: | K17: =IFERROR(VLOOKUP($K$12,Blad4!$A$5:$X$120,5,),"")
B18: Warmteafgiftemedium van de condensor: | K18: =IFERROR(VLOOKUP($K$12,Blad4!$A$5:$X$120,6,),"")
B19: Toestel is voor 26/9/2015 op de markt gebracht: | K19: =IFERROR(VLOOKUP($K$12,Blad4!$A$5:$AU$120,7,),"")
B20: De opwekker gebruikt brandstoffen voornamelijk uit biomassa: | K20: =IFERROR(VLOOKUP($K$12,Blad4!$A$5:$AU$120,8,),"")
A22: VERWARMING
B23: Nominaal vermogen > 400 kW : | K23: =IFERROR(VLOOKUP($K$12,Blad4!$A$5:$X$120,9,),"")
B24: Vermogen (Prated): | K24: =IFERROR(VLOOKUP($K$12,Blad4!$A$5:$X$120,10,),"") | M24: =IF(K24="","","kW")
B25: Waarde bij ontstentenis voor het rendement: | K25: =IFERROR(VLOOKUP($K$12,Blad4!$A$5:$X$120,11,),"")
B26: Vermogen in uit-stand (POFF): | K26: =IFERROR(VLOOKUP($K$12,Blad4!$A$5:$X$120,12,),"") | M26: =IF(K26="","","kW")
B27: TO-vermogen (PTO): | K27: =IFERROR(VLOOKUP($K$12,Blad4!$A$5:$X$120,13,),"") | M27: =IF(K27="","","kW")
B28: Stand-by-vermogen (PSB): | K28: =IFERROR(VLOOKUP($K$12,Blad4!$A$5:$X$120,14,),"") | M28: =IF(K28="","","kW")
B29: CCH-vermogen (PCK): | K29: =IFERROR(VLOOKUP($K$12,Blad4!$A$5:$X$120,15,),"") | M29: =IF(K29="","","kW")
B30: De warmtepomp wordt als actieve koelmachine gebruikt: | K30: =IFERROR(VLOOKUP($K$12,Blad4!$A$5:$AU$120,16,),"")
B32: Temperatuur waarbij de SCOPon of SGUEh bepaald werd: | K32: =IFERROR(VLOOKUP($K$12,Blad4!$A$5:$X$120,17,),"") | O32: =IF(K32="","","°C")
B34: Invoer van SCOPon : | K34: =IFERROR(VLOOKUP($K$12,Blad4!$A$5:$AU$120,18,),"")
B35: րS 55°C: | K35: =IFERROR(VLOOKUP($K$12,Blad4!$A$5:$X$120,19,),"") | O35: =IF(K35="","","%")
B36: Warmtebron waarvoor SCOPon of SGUEh werd bepaald: | K36: =IFERROR(VLOOKUP($K$12,Blad4!$A$5:$X$120,20,),"")
B38: Temperatuurstoename van het water gekend: | K38: =IFERROR(VLOOKUP($K$12,Blad4!$A$5:$X$120,21,),"")
B39: Temperatuurstoename over de condensor: | K39: =IFERROR(VLOOKUP($K$12,Blad4!$A$5:$X$120,22,),"") | O39: =IF(K39="","","°C")
B40: Elektrisch vermogen van de pomp gekend: | K40: =IFERROR(VLOOKUP($K$12,Blad4!$A$5:$X$120,23,),"")
B41: Elek. vermogen van de pomp voor warmtetoevoer naar de verdamper: | K41: =IFERROR(VLOOKUP($K$12,Blad4!$A$5:$X$120,24,),"")
A43: SANITAIR WARM WATER
B44: Configuratie van het opslagvat of de warmtewisselaar: | K44: =IFERROR(VLOOKUP($K$12,Blad4!$A$5:$AU$120,25,),"")
B48: Vermogensbereik: | K48: =IFERROR(VLOOKUP($K$12,Blad4!$A$5:$AU$120,26,),"") | M48: =IF(K48="","","kW")
B49: Vermogen (Prated): | K49: =IFERROR(VLOOKUP($K$12,Blad4!$A$5:$AU$120,27,),"") | M49: =IF(K49="","","kW")
B50: Met warmteopslag: | K50: =IFERROR(VLOOKUP($K$12,Blad4!$A$5:$AU$120,28,),"")
B51: Capaciteitsprofiel gekend: | K51: =IFERROR(VLOOKUP($K$12,Blad4!$A$5:$AU$120,29,),"")
B52: Capaciteitsprofiel: | K52: =IFERROR(VLOOKUP($K$12,Blad4!$A$5:$AU$120,30,),"")
B53: Energie-efficiëntie gekend: | K53: =IFERROR(VLOOKUP($K$12,Blad4!$A$5:$AU$120,31,),"")
B54: Energie-efficiëntie: | K54: =IFERROR(VLOOKUP($K$12,Blad4!$A$5:$AU$120,32,),"")
B55: Warmtepomp uitgerust met een elektrische weerstand: | K55: =IFERROR(VLOOKUP($K$12,Blad4!$A$5:$AU$120,33,),"")
...

Sheet Blad4
B1: OPWEKKER | C1: OPWEKKER | D1: OPWEKKER | E1: OPWEKKER | F1: OPWEKKER | G1: OPWEKKER | H1: OPWEKKER | I1: VERWARMING | J1: VERWARMING | K1: VERWARMING | L1: VERWARMING | M1: VERWARMING | N1: VERWARMING | O1: VERWARMING | P1: VERWARMING | Q1: VERWARMING | R1: VERWARMING | S1: VERWARMING | T1: VERWARMING | U1: VERWARMING | V1: VERWARMING | W1: VERWARMING | X1: VERWARMING | Y1: SWW | Z1: SWW | AA1: SWW | AB1: SWW | AC1: SWW | AD1: SWW | AE1: SWW | AF1: SWW | AG1: SWW | AH1: SWW | AJ1: CIRCULATIEPOMPEN | AK1: CIRCULATIEPOMPEN | AL1: CIRCULATIEPOMPEN | AM1: CIRCULATIEPOMPEN | AN1: CIRCULATIEPOMPEN
A2: 1 | B2: 2 | C2: 3 | D2: 4 | E2: 5 | F2: 6 | G2: 7 | H2: 8 | I2: 9 | J2: 10 | K2: 11 | L2: 12 | M2: 13 | N2: 14 | O2: 15 | P2: 16 | Q2: 17 | R2: 18 | S2: 19 | T2: 20 | U2: 21 | V2: 22 | W2: 23 | X2: 24 | Y2: 25 | Z2: 26 | AA2: 27 | AB2: 28 | AC2: 29 | AD2: 30 | AE2: 31 | AF2: 32 | AG2: 33 | AH2: 34 | AI2: 35 | AJ2: 36 | AK2: 37 | AL2: 38 | AM2: 39 | AN2: 40 | AO2: 41 | AP2: 42 | AQ2: 43 | AR2: 44 | AS2: 45
A3: Product ID | B3: Merk | C3: Soort Toestel | D3: Subtype toestel | E3: Warmtebron van de verdamper | F3: Warmteafgiftemedium van de condensor | G3: Toestel voor 26/9/2015 op de markt gebracht | H3: De opwekker gebruikt brandstoffen voornamelijk uit biomassa | I3: Nominaal vermogen > 400 kW | J3: Vermogen (nominaal of thermisch) | K3: Waarde bij ontstentenis van het rendement | L3: Poff (kW) | M3: Pto (kW) | N3: Psb (kW) | O3: Pck (kW) "CCH" | P3: De warmtepomp wordt als actieve koelmachine gebruikt | Q3: Temperatuur waarbij de SCOP-on of SGUE-n bepaald werd | R3: Invoer van SCOPon | S3: Ns % | T3: Warmtebron waarvoor SCOP-on of SGUEh werd bepaald | U3: Temperatuurstoename van het water gekend | V3: Temperatuurstoename over de condensor | W3: Elektrisch vermogen van de pomp gekend | X3: Elek. Vermogen van de pomp voor warmtetoevoer naar de verdamper | Y3: Configuratie van het opslagvat of de warmtewisselaar | Z3: Vermogensbereik | AA3: Vermogen (nominaal of thermisch) | AB3: Met warmteopslag | AC3: Capaciteitsprofiel gekend | AD3: Capaciteitsprofiel | AE3: Energie-efficiëntie gekend | AF3: Energie-efficiëntie ŋWH | AG3: Warmtepomp uitgerust met elektrische weerstand | AH3: De energie-efficiëntie is bepaald met inbegrip van de weerstand | AJ3: Directe invoer van het geïnstalleerd vermogen | AK3: Geïnstalleerd vermogen | AL3: Type pomp(regeling ) | AM3: EEI gekend | AN3: EEI
A4: Selecteer hier uw warmtepomp
A5: Compress 6000 4 AWE | B5: Bosch | C5: Warmtepomp | D5: Elektrische warmtepomp | E5: Enkel buitenlucht | F5: Water | G5: Neen | H5: Neen | I5: Neen | J5: 4 | K5: Neen | L5: 0.022 | M5: 0 | N5: 0.022 | O5: 0.004 | P5: In te vullen door de verslaggever | Q5: 55 | R5: Vereenvoudige berekening SCOPon | S5: 133 | T5: Niet van toepassing | U5: Ja | V5: 8 | W5: Niet van toepassing | X5: Niet van toepassing | Y5: In te vullen door de verslaggever, indien van toepassing | Z5: ≤ 70 | AA5: 4 | AB5: In te vullen door de verslaggever | AC5: Neen | AD5: Onbekend | AE5: Niet van toepassing | AF5: Niet van toepassing | AG5: Ja | AH5: Ja | AJ5: Ja | AK5: 70 W | AL5: Natlopende circulatiepomp met pompregeling | AM5: Ja | AN5: 0.23
A6: Compress 6000 6 AWE | B6: Bosch | C6: Warmtepomp | D6: Elektrische warmtepomp | E6: Enkel buitenlucht | F6: Water | G6: Neen | H6: Neen | I6: Neen | J6: 5 | K6: Neen | L6: 0.022 | M6: 0 | N6: 0.022 | O6: 0.004 | P6: In te vullen door de verslaggever | Q6: 55 | R6: Vereenvoudige berekening SCOPon | S6: 146 | T6: Niet van toepassing | U6: Ja | V6: 8 | W6: Niet van toepassing | X6: Niet van toepassing | Y6: In te vullen door de verslaggever, indien van toepassing | Z6: ≤ 70 | AA6: 5 | AB6: In te vullen door de verslaggever | AC6: Neen | AD6: Onbekend | AE6: Niet van toepassing | AF6: Niet van toepassing | AG6: Ja | AH6: Ja | AJ6: Ja | AK6: 70 W | AL6: Natlopende circulatiepomp met pompregeling | AM6: Ja | AN6: 0.23
A7: Compress 6000 6 AWE + WH 290 LP1 B | B7: Bosch | C7: Warmtepomp | D7: Elektrische warmtepomp | E7: Enkel buitenlucht | F7: Water | G7: Neen | H7: Neen | I7: Neen | J7: 5 | K7: Neen | L7: 0.022 | M7: 0 | N7: 0.022 | O7: 0.004 | P7: In te vullen door de verslaggever | Q7: 55 | R7: Vereenvoudige berekening SCOPon | S7: 146 | T7: Niet van toepassing | U7: Ja | V7: 8 | W7: Niet van toepassing | X7: Niet van toepassing | Y7: Verwarmingstoestel met een geïntegreerd opslagvat | Z7: ≤ 70 | AA7: 5 | AB7: Ja | AC7: Ja | AD7: XL | AE7: Ja | AF7: 115,6 % | AG7: Ja | AH7: Ja | AJ7: Ja | AK7: 70 W | AL7: Natlopende circulatiepomp met pompregeling | AM7: Ja | AN7: 0.23
A8: Compress 6000 8 AWE | B8: Bosch | C8: Warmtepomp | D8: Elektrische warmtepomp | E8: Enkel buitenlucht | F8: Water | G8: Neen | H8: Neen | I8: Neen | J8: 7 | K8: Neen | L8: 0.017 | M8: 0.008 | N8: 0.017 | O8: 0.007 | P8: In te vullen door de verslaggever | Q8: 55 | R8: Vereenvoudige berekening SCOPon | S8: 147 | T8: Niet van toepassing | U8: Ja | V8: 8 | W8: Niet van toepassing | X8: Niet van toepassing | Y8: In te vullen door de verslaggever, indien van toepassing | Z8: ≤ 70 | AA8: 7 | AB8: In te vullen door de verslaggever | AC8: Neen | AD8: Onbekend | AE8: Niet van toepassing | AF8: Niet van toepassing | AG8: Ja | AH8: Ja | AJ8: Ja | AK8: 70 W | AL8: Natlopende circulatiepomp met pompregeling | AM8: Ja | AN8: 0.23
A9: Compress 6000 8 AWE + HR300 | B9: Bosch | C9: Warmtepomp | D9: Elektrische warmtepomp | E9: Enkel buitenlucht | F9: Water | G9: Neen | H9: Neen | I9: Neen | J9: 7 | K9: Neen | L9: 0.017 | M9: 0.008 | N9: 0.017 | O9: 0.007 | P9: In te vullen door de verslaggever | Q9: 55 | R9: Vereenvoudige berekening SCOPon | S9: 147 | T9: Niet van toepassing | U9: Ja | V9: 8 | W9: Niet van toepassing | X9: Niet van toepassing | Y9: Verwarmingstoestel met een geïntegreerd opslagvat | Z9: ≤ 70 | AA9: 7 | AB9: Ja | AC9: Ja | AD9: XL | AE9: Ja | AF9: 121 % | AG9: Ja | AH9: Ja | AJ9: Ja | AK9: 70 W | AL9: Natlopende circulatiepomp met pompregeling | AM9: Ja | AN9: 0.23
A10: Compress 6000 11s AWE | B10: Bosch | C10: Warmtepomp | D10: Elektrische warmtepomp | E10: Enkel buitenlucht | F10: Water | G10: Neen | H10: Neen | I10: Neen | J10: 9 | K10: Neen | L10: 0.023 | M10: 0 | N10: 0.023 | O10: 0.012 | P10: In te vullen door de verslaggever | Q10: 55 | R10: Vereenvoudige berekening SCOPon | S10: 141 | T10: Niet van toepassing | U10: Ja | V10: 8 | W10: Niet van toepassing | X10: Niet van toepassing | Y10: In te vullen door de verslaggever, indien van toepassing | Z10: ≤ 70 | AA10: 9 | AB10: In te vullen door de verslaggever | AC10: Neen | AD10: Onbekend | AE10: Niet van toepassing | AF10: Niet van toepassing | AG10: Ja | AH10: Ja | AJ10: Ja | AK10: 90 W | AL10: Natlopende circulatiepomp met pompregeling | AM10: Ja | AN10: 0.23
A11: Compress 6000 11t AWE | B11: Bosch | C11: Warmtepomp | D11: Elektrische warmtepomp | E11: Enkel buitenlucht | F11: Water | G11: Neen | H11: Neen | I11: Neen | J11: 9 | K11: Neen | L11: 0.02 | M11: 0.02 | N11: 0.02 | O11: 0 | P11: In te vullen door de verslaggever | Q11: 55 | R11: Vereenvoudige berekening SCOPon | S11: 142 | T11: Niet van toepassing | U11: Ja | V11: 8 | W11: Niet van toepassing | X11: Niet van toepassing | Y11: In te vullen door de verslaggever, indien van toepassing | Z11: ≤ 70 | AA11: 9 | AB11: In te vullen door de verslaggever | AC11: Neen | AD11: Onbekend | AE11: Niet van toepassing | AF11: Niet van toepassing | AG11: Ja | AH11: Ja | AJ11: Ja | AK11: 90 W | AL11: Natlopende circulatiepomp met pompregeling | AM11: Ja | AN11: 0.23
A12: Compress 6000 14t AWE | B12: Bosch | C12: Warmtepomp | D12: Elektrische warmtepomp | E12: Enkel buitenlucht | F12: Water | G12: Neen | H12: Neen | I12: Neen | J12: 10 | K12: Neen | L12: 0.024 | M12: 0.017 | N12: 0.024 | O12: 0.011 | P12: In te vullen door de verslaggever | Q12: 55 | R12: Vereenvoudige berekening SCOPon | S12: 144 | T12: Niet van toepassing | U12: Ja | V12: 8 | W12: Niet van toepassing | X12: Niet van toepassing | Y12: In te vullen door de verslaggever, indien van toepassing | Z12: ≤ 70 | AA12: 10 | AB12: In te vullen door de verslaggever | AC12: Neen | AD12: Onbekend | AE12: Niet van toepassing | AF12: Niet van toepassing | AG12: Ja | AH12: Ja | AJ12: Ja | AK12: 90 W | AL12: Natlopende circulatiepomp met pompregeling | AM12: Ja | AN12: 0.23
A13: Compress 6000 4 AWB | B13: Bosch | C13: Warmtepomp | D13: Elektrische warmtepomp | E13: Enkel buitenlucht | F13: Water | G13: Neen | H13: Neen | I13: Neen | J13: 4 | K13: Neen | L13: 0.022 | M13: 0 | N13: 0.022 | O13: 0.004 | P13: In te vullen door de verslaggever | Q13: 55 | R13: Vereenvoudige berekening SCOPon | S13: 133 | T13: Niet van toepassing | U13: Ja | V13: 8 | W13: Niet van toepassing | X13: Niet van toepassing | Y13: In te vullen door de verslaggever, indien van toepassing | Z13: ≤ 70 | AA13: 4 | AB13: In te vullen door de verslaggever | AC13: Neen | AD13: Onbekend | AE13: Niet van toepassing | AF13: Niet van toepassing | AG13: Neen | AH13: Niet van toepassing | AJ13: Ja | AK13: 70 W | AL13: Natlopende circulatiepomp met pompregeling | AM13: Ja | AN13: 0.23
A14: Compress 6000 6 AWB | B14: Bosch | C14: Warmtepomp | D14: Elektrische warmtepomp | E14: Enkel buitenlucht | F14: Water | G14: Neen | H14: Neen | I14: Neen | J14: 5 | K14: Neen | L14: 0.022 | M14: 0 | N14: 0.022 | O14: 0.004 | P14: In te vullen door de verslaggever | Q14: 55 | R14: Vereenvoudige berekening SCOPon | S14: 146 | T14: Niet van toepassing | U14: Ja | V14: 8 | W14: Niet van toepassing | X14: Niet van toepassing | Y14: In te vullen door de verslaggever, indien van toepassing | Z14: ≤ 70 | AA14: 5 | AB14: In te vullen door de verslaggever | AC14: Neen | AD14: Onbekend | AE14: Niet van toepassing | AF14: Niet van toepassing | AG14: Neen | AH14: Niet van toepassing | AJ14: Ja | AK14: 70 W | AL14: Natlopende circulatiepomp met pompregeling | AM14: Ja | AN14: 0.23
A15: Compress 6000 8 AWB | B15: Bosch | C15: Warmtepomp | D15: Elektrische warmtepomp | E15: Enkel buitenlucht | F15: Water | G15: Neen | H15: Neen | I15: Neen | J15: 7 | K15: Neen | L15: 0.017 | M15: 0.008 | N15: 0.017 | O15: 0.007 | P15: In te vullen door de verslaggever | Q15: 55 | R15: Vereenvoudige berekening SCOPon | S15: 147 | T15: Niet van toepassing | U15: Ja | V15: 8 | W15: Niet van toepassing | X15: Niet van toepassing | Y15: In te vullen door de verslaggever, indien van toepassing | Z15: ≤ 70 | AA15: 7 | AB15: In te vullen door de verslaggever | AC15: Neen | AD15: Onbekend | AE15: Niet van toepassing | AF15: Niet van toepassing | AG15: Neen | AH15: Niet van toepassing | AJ15: Ja | AK15: 70 W | AL15: Natlopende circulatiepomp met pompregeling | AM15: Ja | AN15: 0.23
A16: Compress 6000 11s AWB | B16: Bosch | C16: Warmtepomp | D16: Elektrische warmtepomp | E16: Enkel buitenlucht | F16: Water | G16: Neen | H16: Neen | I16: Neen | J16: 9 | K16: Neen | L16: 0.023 | M16: 0 | N16: 0.023 | O16: 0.012 | P16: In te vullen door de verslaggever | Q16: 55 | R16: Vereenvoudige berekening SCOPon | S16: 141 | T16: Niet van toepassing | U16: Ja | V16: 8 | W16: Niet van toepassing | X16: Niet van toepassing | Y16: In te vullen door de verslaggever, indien van toepassing | Z16: ≤ 70 | AA16: 9 | AB16: In te vullen door de verslaggever | AC16: Neen | AD16: Onbekend | AE16: Niet van toepassing | AF16: Niet van toepassing | AG16: Neen | AH16: Niet van toepassing | AJ16: Ja | AK16: 90 W | AL16: Natlopende circulatiepomp met pompregeling | AM16: Ja | AN16: 0.23
... A94: Compress 2000 AWF 16 R-T | B94: Bosch | C94: Warmtepomp | D94: Elektrische warmtepomp | E94: Enkel buitenlucht | F94: Water | G94: Neen | H94: Neen | I94: Neen | J94: 13 | K94: Neen | L94: 0.014 | M94: 0.03 | N94: 0.014 | O94: 0 | P94: In te vullen door de verslaggever | Q94: 55 | R94: Vereenvoudige berekening SCOPon | S94: 137 | T94: Niet van toepassing | U94: Ja | V94: 8 | W94: Niet van toepassing | X94: Niet van toepassing | Y94: In te vullen door de verslaggever, indien van toepassing | Z94: ≤ 70 | AA94: 13 | AB94: In te vullen door de verslaggever | AC94: Niet van toepassing | AD94: Niet van toepassing | AE94: Niet van toepassing | AF94: Niet van toepassing | AG94: Neen | AH94: Ja | AJ94: Ja | AK94: 87 W | AL94: Natlopende circulatiepomp met pompregeling | AM94: Ja | AN94: 0.21
A95: Compress 3800iAW 4 OM-S | B95: Bosch | C95: Warmtepomp | D95: Elektrische warmtepomp | E95: Enkel buitenlucht | F95: Water | G95: Neen | H95: Neen | I95: Neen | J95: 4 | K95: Neen | L95: 0.015 | M95: 0.016 | N95: 0.015 | O95: 0.001 | P95: In te vullen door de verslaggever | Q95: 55 | R95: Vereenvoudige berekening SCOPon | S95: 143 | T95: Niet van toepassing | U95: Niet van toepassing | V95: Niet van toepassing | W95: Niet van toepassing | X95: Niet van toepassing | Y95: Verwarmingstoestel met een geïntegreerd opslagvat | Z95: ≤ 70 | AA95: 4 | AB95: Ja | AC95: Ja | AD95: L | AE95: Ja | AF95: 152 % | AG95: neen | AH95: Ja | AJ95: Niet van toepassing | AK95: Niet van toepassing | AL95: Niet van toepassing | AM95: Niet van toepassing | AN95: Niet van toepassing
A96: Compress 3800iAW 6 OM-S | B96: Bosch | C96: Warmtepomp | D96: Elektrische warmtepomp | E96: Enkel buitenlucht | F96: Water | G96: Neen | H96: Neen | I96: Neen | J96: 6 | K96: Neen | L96: 0.015 | M96: 0.016 | N96: 0.015 | O96: 0.001 | P96: In te vullen door de verslaggever | Q96: 55 | R96: Vereenvoudige berekening SCOPon | S96: 145 | T96: Niet van toepassing | U96: Niet van toepassing | V96: Niet van toepassing | W96: Niet van toepassing | X96: Niet van toepassing | Y96: Verwarmingstoestel met een geïntegreerd opslagvat | Z96: ≤ 70 | AA96: 6 | AB96: Ja | AC96: Ja | AD96: L | AE96: Ja | AF96: 152 % | AG96: neen | AH96: Ja | AJ96: Niet van toepassing | AK96: Niet van toepassing | AL96: Niet van toepassing | AM96: Niet van toepassing | AN96: Niet van toepassing
A97: Compress 3800iAW 7 OM-S | B97: Bosch | C97: Warmtepomp | D97: Elektrische warmtepomp | E97: Enkel buitenlucht | F97: Water | G97: Neen | H97: Neen | I97: Neen | J97: 8 | K97: Neen | L97: 0.015 | M97: 0.016 | N97: 0.015 | O97: 0.001 | P97: In te vullen door de verslaggever | Q97: 55 | R97: Vereenvoudige berekening SCOPon | S97: 146 | T97: Niet van toepassing | U97: Niet van toepassing | V97: Niet van toepassing | W97: Niet van toepassing | X97: Niet van toepassing | Y97: Verwarmingstoestel met een geïntegreerd opslagvat | Z97: ≤ 70 | AA97: 8 | AB97: Ja | AC97: Ja | AD97: L | AE97: Ja | AF97: 152 % | AG97: neen | AH97: Ja | AJ97: Niet van toepassing | AK97: Niet van toepassing | AL97: Niet van toepassing | AM97: Niet van toepassing | AN97: Niet van toepassing
A98: Compress 3800iAW 10 OM-S | B98: Bosch | C98: Warmtepomp | D98: Elektrische warmtepomp | E98: Enkel buitenlucht | F98: Water | G98: Neen | H98: Neen | I98: Neen | J98: 10 | K98: Neen | L98: 0.017 | M98: 0.035 | N98: 0.017 | O98: 0 | P98: In te vullen door de verslaggever | Q98: 55 | R98: Vereenvoudige berekening SCOPon | S98: 155 | T98: Niet van toepassing | U98: Niet van toepassing | V98: Niet van toepassing | W98: Niet van toepassing | X98: Niet van toepassing | Y98: Verwarmingstoestel met een geïntegreerd opslagvat | Z98: ≤ 70 | AA98: 10 | AB98: Ja | AC98: Ja | AD98: L | AE98: Ja | AF98: 149 % | AG98: neen | AH98: Ja | AJ98: Niet van toepassing | AK98: Niet van toepassing | AL98: Niet van toepassing | AM98: Niet van toepassing | AN98: Niet van toepassing
A99: Compress 3800iAW 13 OM-S | B99: Bosch | C99: Warmtepomp | D99: Elektrische warmtepomp | E99: Enkel buitenlucht | F99: Water | G99: Neen | H99: Neen | I99: Neen | J99: 13 | K99: Neen | L99: 0.017 | M99: 0.015 | N99: 0.017 | O99: 0 | P99: In te vullen door de verslaggever | Q99: 55 | R99: Vereenvoudige berekening SCOPon | S99: 157 | T99: Niet van toepassing | U99: Niet van toepassing | V99: Niet van toepassing | W99: Niet van toepassing | X99: Niet van toepassing | Y99: Verwarmingstoestel met een geïntegreerd opslagvat | Z99: ≤ 70 | AA99: 13 | AB99: Ja | AC99: Ja | AD99: L | AE99: Ja | AF99: 149 % | AG99: neen | AH99: Ja | AJ99: Niet van toepassing | AK99: Niet van toepassing | AL99: Niet van toepassing | AM99: Niet van toepassing | AN99: Niet van toepassing
A100: Compress 3800iAW 10 OM-T | B100: Bosch | C100: Warmtepomp | D100: Elektrische warmtepomp | E100: Enkel buitenlucht | F100: Water | G100: Neen | H100: Neen | I100: Neen | J100: 10 | K100: Neen | L100: 0.017 | M100: 0.007 | N100: 0.017 | O100: 0 | P100: In te vullen door de verslaggever | Q100: 55 | R100: Vereenvoudige berekening SCOPon | S100: 156 | T100: Niet van toepassing | U100: Niet van toepassing | V100: Niet van toepassing | W100: Niet van toepassing | X100: Niet van toepassing | Y100: Verwarmingstoestel met een geïntegreerd opslagvat | Z100: ≤ 70 | AA100: 10 | AB100: Ja | AC100: Ja | AD100: L | AE100: Ja | AF100: 152 % | AG100: neen | AH100: Ja | AJ100: Niet van toepassing | AK100: Niet van toepassing | AL100: Niet van toepassing | AM100: Niet van toepassing | AN100: Niet van toepassing
A101: Compress 3800iAW 13 OM-T | B101: Bosch | C101: Warmtepomp | D101: Elektrische warmtepomp | E101: Enkel buitenlucht | F101: Water | G101: Neen | H101: Neen | I101: Neen | J101: 13 | K101: Neen | L101: 0.017 | M101: 0.007 | N101: 0.017 | O101: 0 | P101: In te vullen door de verslaggever | Q101: 55 | R101: Vereenvoudige berekening SCOPon | S101: 154 | T101: Niet van toepassing | U101: Niet van toepassing | V101: Niet van toepassing | W101: Niet van toepassing | X101: Niet van toepassing | Y101: Verwarmingstoestel met een geïntegreerd opslagvat | Z101: ≤ 70 | AA101: 13 | AB101: Ja | AC101: Ja | AD101: L | AE101: Ja | AF101: 152 % | AG101: neen | AH101: Ja | AJ101: Niet van toepassing | AK101: Niet van toepassing | AL101: Niet van toepassing | AM101: Niet van toepassing | AN101: Niet van toepassing
A102: Compress 3800iAW 4 OMH-S | B102: Bosch | C102: Warmtepomp | D102: Elektrische warmtepomp | E102: Enkel buitenlucht | F102: Water | G102: Neen | H102: Neen | I102: Neen | J102: 4 | K102: Neen | L102: 0.015 | M102: 0.016 | N102: 0.015 | O102: 0.001 | P102: In te vullen door de verslaggever | Q102: 55 | R102: Vereenvoudige berekening SCOPon | S102: 143 | T102: Niet van toepassing | U102: Niet van toepassing | V102: Niet van toepassing | W102: Niet van toepassing | X102: Niet van toepassing | Y102: Verwarmingstoestel met een geïntegreerd opslagvat | Z102: ≤ 70 | AA102: 4 | AB102: Ja | AC102: Ja | AD102: L | AE102: Ja | AF102: 152 % | AG102: neen | AH102: Ja | AJ102: Niet van toepassing | AK102: Niet van toepassing | AL102: Niet van toepassing | AM102: Niet van toepassing | AN102: Niet van toepassing
A103: Compress 3800iAW 6 OMH-S | B103: Bosch | C103: Warmtepomp | D103: Elektrische warmtepomp | E103: Enkel buitenlucht | F103: Water | G103: Neen | H103: Neen | I103: Neen | J103: 6 | K103: Neen | L103: 0.015 | M103: 0.016 | N103: 0.015 | O103: 0.001 | P103: In te vullen door de verslaggever | Q103: 55 | R103: Vereenvoudige berekening SCOPon | S103: 145 | T103: Niet van toepassing | U103: Niet van toepassing | V103: Niet van toepassing | W103: Niet van toepassing | X103: Niet van toepassing | Y103: Verwarmingstoestel met een geïntegreerd opslagvat | Z103: ≤ 70 | AA103: 6 | AB103: Ja | AC103: Ja | AD103: L | AE103: Ja | AF103: 152 % | AG103: neen | AH103: Ja | AJ103: Niet van toepassing | AK103: Niet van toepassing | AL103: Niet van toepassing | AM103: Niet van toepassing | AN103: Niet van toepassing
A104: Compress 3800iAW 7 OMH-S | B104: Bosch | C104: Warmtepomp | D104: Elektrische warmtepomp | E104: Enkel buitenlucht | F104: Water | G104: Neen | H104: Neen | I104: Neen | J104: 8 | K104: Neen | L104: 0.015 | M104: 0.016 | N104: 0.015 | O104: 0.001 | P104: In te vullen door de verslaggever | Q104: 55 | R104: Vereenvoudige berekening SCOPon | S104: 146 | T104: Niet van toepassing | U104: Niet van toepassing | V104: Niet van toepassing | W104: Niet van toepassing | X104: Niet van toepassing | Y104: Verwarmingstoestel met een geïntegreerd opslagvat | Z104: ≤ 70 | AA104: 8 | AB104: Ja | AC104: Ja | AD104: L | AE104: Ja | AF104: 152 % | AG104: neen | AH104: Ja | AJ104: Niet van toepassing | AK104: Niet van toepassing | AL104: Niet van toepassing | AM104: Niet van toepassing | AN104: Niet van toepassing
A105: Compress 3800iAW 10 OMH-S | B105: Bosch | C105: Warmtepomp | D105: Elektrische warmtepomp | E105: Enkel buitenlucht | F105: Water | G105: Neen | H105: Neen | I105: Neen | J105: 10 | K105: Neen | L105: 0.017 | M105: 0.035 | N105: 0.017 | O105: 0 | P105: In te vullen door de verslaggever | Q105: 55 | R105: Vereenvoudige berekening SCOPon | S105: 155 | T105: Niet van toepassing | U105: Niet van toepassing | V105: Niet van toepassing | W105: Niet van toepassing | X105: Niet van toepassing | Y105: Verwarmingstoestel met een geïntegreerd opslagvat | Z105: ≤ 70 | AA105: 10 | AB105: Ja | AC105: Ja | AD105: L | AE105: Ja | AF105: 149 % | AG105: neen | AH105: Ja | AJ105: Niet van toepassing | AK105: Niet van toepassing | AL105: Niet van toepassing | AM105: Niet van toepassing | AN105: Niet van toepassing
A106: Compress 3800iAW 13 OMH-S | B106: Bosch | C106: Warmtepomp | D106: Elektrische warmtepomp | E106: Enkel buitenlucht | F106: Water | G106: Neen | H106: Neen | I106: Neen | J106: 13 | K106: Neen | L106: 0.017 | M106: 0.015 | N106: 0.017 | O106: 0 | P106: In te vullen door de verslaggever | Q106: 55 | R106: Vereenvoudige berekening SCOPon | S106: 157 | T106: Niet van toepassing | U106: Niet van toepassing | V106: Niet van toepassing | W106: Niet van toepassing | X106: Niet van toepassing | Y106: Verwarmingstoestel met een geïntegreerd opslagvat | Z106: ≤ 70 | AA106: 13 | AB106: Ja | AC106: Ja | AD106: L | AE106: Ja | AF106: 149 % | AG106: neen | AH106: Ja | AJ106: Niet van toepassing | AK106: Niet van toepassing | AL106: Niet van toepassing | AM106: Niet van toepassing | AN106: Niet van toepassing
... A115: Compress 3800iAW 13 OE-T | B115: Bosch | C115: Warmtepomp | D115: Elektrische warmtepomp | E115: Enkel buitenlucht | F115: Water | G115: Neen | H115: Neen | I115: Neen | J115: 13 | K115: Neen | L115: 0.017 | M115: 0.007 | N115: 0.017 | O115: 0 | P115: In te vullen door de verslaggever | Q115: 55 | R115: Vereenvoudige berekening SCOPon | S115: 154 | T115: Niet van toepassing | U115: Niet van toepassing | V115: Niet van toepassing | W115: Niet van toepassing | X115: Niet van toepassing | Y115: In te vullen door de verslaggever, indien van toepassing | Z115: ≤ 70 | AA115: 13 | AB115: In te vullen door de verslaggever | AC115: Niet van toepassing | AD115: Niet van toepassing | AE115: Niet van toepassing | AF115: Niet van toepassing | AG115: Ja | AH115: Ja | AJ115: Niet van toepassing | AK115: Niet van toepassing | AL115: Niet van toepassing | AM115: Niet van toepassing | AN115: Niet van toepassing
